BEGIN:VCALENDAR
VERSION:2.0
PRODID:SFPL Web Calendar
BEGIN:VEVENT
UID:74034@sfpl.org
DTSTAMP:20231007T200000Z
DTSTART:20231007T200000Z
DTEND:20231007T204500Z
SUMMARY:Performance: Free Press Music
DESCRIPTION:<p>Free Press is a Filipina led ensemble who's&nbsp;sound was largely developed in San Francisco, in the Western Addition and Tenderloin; specifically the <a href="http://cadillachotel.org/">Cadillac Hotel</a> run by Katherine Looper of Reality House West. The performance features vocals from Christie Aida, Dave Mihaly on percussions and Billy White on piano.<br />
<br />
Words from Christie Aida (lead singer):</p>

<p>The Looper family members are&nbsp;instrumental in affordable housing preservation efforts for very low-income communities in the Tenderloin and beyond.&nbsp; The Loopers created a model for supportive housing many human/housing rights activists and non-profits follow today.&nbsp;This model benefits my friends&nbsp; who happen to be residents of the Cadillac, and are subjects of songs from this EP, &ldquo;The House of Welcome&rdquo;.&nbsp; The EP includes &ldquo;Reality House&rdquo; about Mary, a formerly homeless trans resident, who&nbsp; uses her wisdom to save many of her fellow community members with Narcan. &ldquo;Teody&rdquo; is about another friend and fellow Filipino who overcame 22 years of homelessness and found a home at the Cadillac.&nbsp; This EP is dedicated to my mentor,&nbsp; Kathy Looper, the Looper family and the Cadillac Hotel residents including Mary, Gayle and Teody.&nbsp; Special thanks to all the musicians, Arielle at Women&rsquo;s Audio Mission, the Cadillac Hotel, Bird and Beckett, the SF Library and Dave Mihaly for his original compositions and musical guidance.&nbsp; Spending two days with my musical family recording EPs at Women&rsquo;s Audio Mission was an enlightening experience!</p>

<p>Upcoming Performances</p>

<p>October 6, 2023<br />
Bird and Beckett 9:00pm-10:30pm</p>

<p>November 3, 2023<br />
Cadillac Hotel 1pm-2pm</p>

<p><strong>Connect:</strong><br />
<a href="http://www.thefreepressmusic.com">Website</a>&nbsp;| <a href="https://www.instagram.com/thefreepressmusic">Instagram</a></p>

<p>&nbsp;</p>
LOCATION:North Beach - North Beach General Floor Area
CLASS:PUBLIC
TRANSP:TRANSPARENT
END:VEVENT
BEGIN:VALARM
TRIGGER:-PT1440M
ACTION:DISPLAY
DESCRIPTION:Event Reminder - Performance: Free Press Music
END:VALARM
END:VCALENDAR