BEGIN:VCALENDAR
VERSION:2.0
PRODID:SFPL Web Calendar
BEGIN:VEVENT
UID:74452@sfpl.org
DTSTAMP:20231220T000000Z
DTSTART:20231220T000000Z
DTEND:20231220T010000Z
SUMMARY:Workshop: Card Making
DESCRIPTION:<p>Create your own handmade cards for any special days you have coming up.</p>

<p>Space limited. Registration required. Call, email or talk with staff to reserve your spot.</p>
LOCATION:Noe Valley/Sally Brunn - Noe Valley Meeting Room
CLASS:PUBLIC
TRANSP:TRANSPARENT
END:VEVENT
BEGIN:VALARM
TRIGGER:-PT1440M
ACTION:DISPLAY
DESCRIPTION:Event Reminder - Workshop: Card Making
END:VALARM
END:VCALENDAR