BEGIN:VCALENDAR
VERSION:2.0
PRODID:SFPL Web Calendar
BEGIN:VEVENT
UID:74575@sfpl.org
DTSTAMP:20231215T223000Z
DTSTART:20231215T223000Z
DTEND:20231216T003000Z
SUMMARY:Social: The Portola's Got Talent
DESCRIPTION:<p>This is your chance to show the world just how talented you are in the Portola's Talent Show.&nbsp;Performances must last 5 minutes or less. For ages 17 and younger. Reservations required:&nbsp;(415) 355-5660.&nbsp;</p>
LOCATION:Portola - Portola General Floor Area
CLASS:PUBLIC
TRANSP:TRANSPARENT
END:VEVENT
BEGIN:VALARM
TRIGGER:-PT1440M
ACTION:DISPLAY
DESCRIPTION:Event Reminder - Social: The Portola's Got Talent
END:VALARM
END:VCALENDAR