BEGIN:VCALENDAR
VERSION:2.0
PRODID:SFPL Web Calendar
BEGIN:VEVENT
UID:74794@sfpl.org
DTSTAMP:20231219T230000Z
DTSTART:20231219T230000Z
DTEND:20231220T003000Z
SUMMARY:CANCELLED Activity: Green Art
DESCRIPTION:<p>Make beautiful art, gifts, and wrapping paper, made from natural objects and items from around the house. For ages 5&ndash;15. Supplies Limited.</p>
LOCATION:Richmond/Senator Milton Marks - Richmond Meeting Room
CLASS:PUBLIC
TRANSP:TRANSPARENT
END:VEVENT
BEGIN:VALARM
TRIGGER:-PT1440M
ACTION:DISPLAY
DESCRIPTION:Event Reminder - CANCELLED Activity: Green Art
END:VALARM
END:VCALENDAR