BEGIN:VCALENDAR
VERSION:2.0
PRODID:SFPL Web Calendar
BEGIN:VEVENT
UID:75225@sfpl.org
DTSTAMP:20231228T220000Z
DTSTART:20231228T220000Z
DTEND:20231228T233000Z
SUMMARY:Workshop: Meitu App Basics/美圖秀秀應用簡介
DESCRIPTION:<p>Learn the basic functions of the Meitu app. Instruction in Chinese. Registration required: (415) 355-2888.&nbsp;</p>

<p>學習美圖應用的基本功能。中文講解。報名請電: (415) 355-2888。</p>
LOCATION:Chinatown/Him Mark Lai - Chinatown Meeting Room
CLASS:PUBLIC
TRANSP:TRANSPARENT
END:VEVENT
BEGIN:VALARM
TRIGGER:-PT1440M
ACTION:DISPLAY
DESCRIPTION:Event Reminder - Workshop: Meitu App Basics/美圖秀秀應用簡介
END:VALARM
END:VCALENDAR