BEGIN:VCALENDAR
VERSION:2.0
PRODID:SFPL Web Calendar
BEGIN:VEVENT
UID:75497@sfpl.org
DTSTAMP:20231212T220000Z
DTSTART:20231212T220000Z
DTEND:20231212T230000Z
SUMMARY:Workshop: Older Adult Fall Prevention
DESCRIPTION:<p>Learn more about fall prevention.&nbsp;Representatives from North East Medical Services will present information on fall prevention for older adults. You will learn the importance of fall prevention, what can cause falling and&nbsp;health consequences and prevention tips.&nbsp;Space is limited.&nbsp;Reservations required: (415)355-5600.</p>

<p>This is a partnership with North East Medical Services.</p>

<p>歡迎大家了解更多長者如何預防跌倒。東北醫療中心代表會為您介紹預防跌倒的重要性，可能導致跌倒的因素，由跌倒導致的健康問題，以及預防跌倒的方法。座位有限，請致電(415)355-5600報名。本活動由東北醫療中心與三藩市公立圖書館列治文區分館合作提供。</p>
LOCATION:Richmond/Senator Milton Marks - Richmond Meeting Room
CLASS:PUBLIC
TRANSP:TRANSPARENT
END:VEVENT
BEGIN:VALARM
TRIGGER:-PT1440M
ACTION:DISPLAY
DESCRIPTION:Event Reminder - Workshop: Older Adult Fall Prevention
END:VALARM
END:VCALENDAR