BEGIN:VCALENDAR
VERSION:2.0
PRODID:SFPL Web Calendar
BEGIN:VEVENT
UID:75512@sfpl.org
DTSTAMP:20231215T210000Z
DTSTART:20231215T210000Z
DTEND:20231215T220000Z
SUMMARY:Workshop: Body Butter Demonstration
DESCRIPTION:<p>Watch a demonstration on&nbsp;how to make whipped body butter using&nbsp;three&nbsp;ingredients.</p>
LOCATION:Bayview/Linda Brooks-Burton - Bayview Meeting Room
CLASS:PUBLIC
TRANSP:TRANSPARENT
END:VEVENT
BEGIN:VALARM
TRIGGER:-PT1440M
ACTION:DISPLAY
DESCRIPTION:Event Reminder - Workshop: Body Butter Demonstration
END:VALARM
END:VCALENDAR