BEGIN:VCALENDAR
VERSION:2.0
PRODID:SFPL Web Calendar
BEGIN:VEVENT
UID:75600@sfpl.org
DTSTAMP:20231216T190000Z
DTSTART:20231216T190000Z
DTEND:20231216T200000Z
SUMMARY:Early Learning: Drag Story Hour
DESCRIPTION:<p>Delight in&nbsp;stories shared by Drag Performer Lola Ren, as she takes you on an enchanted tour that celebrates a rainbow of diversity, fun&nbsp;and the unique value and worth of each&nbsp;of us. Storytime followed by facepainting. For children and their families.</p>
LOCATION:Noe Valley/Sally Brunn - Noe Valley Meeting Room
CLASS:PUBLIC
TRANSP:TRANSPARENT
END:VEVENT
BEGIN:VALARM
TRIGGER:-PT1440M
ACTION:DISPLAY
DESCRIPTION:Event Reminder - Early Learning: Drag Story Hour
END:VALARM
END:VCALENDAR