BEGIN:VCALENDAR
VERSION:2.0
PRODID:SFPL Web Calendar
BEGIN:VEVENT
UID:75612@sfpl.org
DTSTAMP:20231215T210000Z
DTSTART:20231215T210000Z
DTEND:20231215T230000Z
SUMMARY:Services: Community Living Campaign Emergency Preparedness
DESCRIPTION:<p>Get information on how to prepare for an emergency, such as a power outage, earthquake&nbsp;and more.&nbsp;<a href="https://sfcommunityliving.org/resources/emergencyresources/">Community Living Campaign</a>&nbsp;representatives will be on hand with Vial of Life kits, whistles and handouts in English, Spanish and Chinese.</p>
LOCATION:Main Library - Atrium
CLASS:PUBLIC
TRANSP:TRANSPARENT
END:VEVENT
BEGIN:VALARM
TRIGGER:-PT1440M
ACTION:DISPLAY
DESCRIPTION:Event Reminder - Services: Community Living Campaign Emergency Preparedness
END:VALARM
END:VCALENDAR