BEGIN:VCALENDAR
VERSION:2.0
PRODID:SFPL Web Calendar
BEGIN:VEVENT
UID:75622@sfpl.org
DTSTAMP:20231213T000000Z
DTSTART:20231213T000000Z
DTEND:20231213T010000Z
SUMMARY:Activity: Tween Winter Read Book Giveaway
DESCRIPTION:<p>Select a book to read and keep during Tween Winter Read. Giveaway books will be available for the duration of Tween Winter Read.&nbsp;</p>

<p>Tween Winter Read is for ages 10&ndash;18 to encourage reading and visiting the library during winter break.&nbsp;</p>
LOCATION:Bernal Heights - Bernal Heights General Floor Area
CLASS:PUBLIC
TRANSP:TRANSPARENT
END:VEVENT
BEGIN:VALARM
TRIGGER:-PT1440M
ACTION:DISPLAY
DESCRIPTION:Event Reminder - Activity: Tween Winter Read Book Giveaway
END:VALARM
END:VCALENDAR