BEGIN:VCALENDAR
VERSION:2.0
PRODID:SFPL Web Calendar
BEGIN:VEVENT
UID:75681@sfpl.org
DTSTAMP:20231223T230000Z
DTSTART:20231223T230000Z
DTEND:20231224T000000Z
SUMMARY:Workshop: Make Your Own Wrapping Paper
DESCRIPTION:<p>Make your own patterned wrapping paper with stamps, water color paint and other methods.</p>

<p>For ages 6 and older.</p>
LOCATION:Glen Park - Glen Park Meeting Room
CLASS:PUBLIC
TRANSP:TRANSPARENT
END:VEVENT
BEGIN:VALARM
TRIGGER:-PT1440M
ACTION:DISPLAY
DESCRIPTION:Event Reminder - Workshop: Make Your Own Wrapping Paper
END:VALARM
END:VCALENDAR