BEGIN:VCALENDAR
VERSION:2.0
PRODID:SFPL Web Calendar
BEGIN:VEVENT
UID:75745@sfpl.org
DTSTAMP:20231219T233000Z
DTSTART:20231219T233000Z
DTEND:20231220T010000Z
SUMMARY:Workshop: Winter Fairy Houses
DESCRIPTION:<p>Design and create your very own edible fairy house out of gingerbread and decorate winter themed cookies. For children and their families.</p>
LOCATION:Merced - Merced Patio
CLASS:PUBLIC
TRANSP:TRANSPARENT
END:VEVENT
BEGIN:VALARM
TRIGGER:-PT1440M
ACTION:DISPLAY
DESCRIPTION:Event Reminder - Workshop: Winter Fairy Houses
END:VALARM
END:VCALENDAR