BEGIN:VCALENDAR
VERSION:2.0
PRODID:SFPL Web Calendar
BEGIN:VEVENT
UID:75943@sfpl.org
DTSTAMP:20240112T204500Z
DTSTART:20240112T204500Z
DTEND:20240112T214500Z
SUMMARY:Workshop: Edible Social Studies, Salad Rolls
DESCRIPTION:<p>Learn to make fresh salad rolls inspired by Vietnamese gỏi cuốn filled with vegetables and rice noodles, wrapped in edible rice paper, and enjoyed with a dipping sauce. The workshop is taught by The Breakfast Project using their Edible Social&nbsp;Studies: Everybody Cooks Rice curriculum. Ages 6&ndash;11. Youth must be accompanied by an adult. Space limited. Reservations required: (415) 355-5717 (starting January 2).&nbsp;<em><strong>Program is full.</strong></em></p>

<p>Connect:&nbsp;<a href="https://url.avanan.click/v2/___http://www.breakfastproject.org___.YXAzOnNmZHQyOmE6bzo5OTQ4M2RjMmIwODU4MTIzMjAxZmZmNjE0NTVlYTZmMjo2OjVkZTg6OTljZThhMDI2M2EwZTVlYjdlOWRmMTY1MzhhY2E4YjI2NmVhZmRhZjljOTdlZmZiZThjZDI4YTQ0MzBhNWQxMjpoOlQ">The Breakfast Project &ndash; Website</a></p>
LOCATION:Anza - Anza Meeting Room
CLASS:PUBLIC
TRANSP:TRANSPARENT
END:VEVENT
BEGIN:VALARM
TRIGGER:-PT1440M
ACTION:DISPLAY
DESCRIPTION:Event Reminder - Workshop: Edible Social Studies, Salad Rolls
END:VALARM
END:VCALENDAR