BEGIN:VCALENDAR
VERSION:2.0
PRODID:SFPL Web Calendar
BEGIN:VEVENT
UID:75978@sfpl.org
DTSTAMP:20231221T003000Z
DTSTART:20231221T003000Z
DTEND:20231221T013000Z
SUMMARY:Workshop: Write from Life with Author Nina LaCour
DESCRIPTION:<p>Award-winning author Nina LaCour is celebrating her first young chapter book, <em>The Apartment House on Poppy Hill</em>, with aspiring young writers. Join LaCour on a walk around Bernal&nbsp;Heights neighborhood (one of the inspirations for LaCour's newest book), to observe the things that make your neighborhood special. Discuss local surroundings and use your imagination to turn the place you live into stories.&nbsp; For ages 7&ndash;15.&nbsp; Space is limited. Reservations required: (415) 355-2810.</p>
LOCATION:Bernal Heights - Bernal Heights Meeting Room
CLASS:PUBLIC
TRANSP:TRANSPARENT
END:VEVENT
BEGIN:VALARM
TRIGGER:-PT1440M
ACTION:DISPLAY
DESCRIPTION:Event Reminder - Workshop: Write from Life with Author Nina LaCour
END:VALARM
END:VCALENDAR