BEGIN:VCALENDAR
VERSION:2.0
PRODID:SFPL Web Calendar
BEGIN:VEVENT
UID:76560@sfpl.org
DTSTAMP:20240103T190000Z
DTSTART:20240103T190000Z
DTEND:20240103T200000Z
SUMMARY:Workshop: Moonbear's Shadow
DESCRIPTION:<p>Listen to the story Moonbear&rsquo;s Shadow,&nbsp;then recreate scenes from the picture book using a Bear figure and a flashlight (to represent the Sun).&nbsp;For ages 2&ndash;5.</p>
LOCATION:Mission - Mission Children's Area
CLASS:PUBLIC
TRANSP:TRANSPARENT
END:VEVENT
BEGIN:VALARM
TRIGGER:-PT1440M
ACTION:DISPLAY
DESCRIPTION:Event Reminder - Workshop: Moonbear's Shadow
END:VALARM
END:VCALENDAR