BEGIN:VCALENDAR
VERSION:2.0
PRODID:SFPL Web Calendar
BEGIN:VEVENT
UID:76696@sfpl.org
DTSTAMP:20231213T003000Z
DTSTART:20231213T003000Z
DTEND:20231213T020000Z
SUMMARY:Social: Game Night
DESCRIPTION:<p>Enjoy table top games and board games with friends and family.</p>
LOCATION:Parkside - Parkside Children's Area
CLASS:PUBLIC
TRANSP:TRANSPARENT
END:VEVENT
BEGIN:VALARM
TRIGGER:-PT1440M
ACTION:DISPLAY
DESCRIPTION:Event Reminder - Social: Game Night
END:VALARM
END:VCALENDAR