BEGIN:VCALENDAR
VERSION:2.0
PRODID:SFPL Web Calendar
BEGIN:VEVENT
UID:76911@sfpl.org
DTSTAMP:20240112T000000Z
DTSTART:20240112T000000Z
DTEND:20240112T010000Z
SUMMARY:Workshop: Library Rangers with Monarchs
DESCRIPTION:<p>Learn about monarch butterflies around the bay area and the roles they play in nature.&nbsp;We'll have an hour of fun as we read a story,&nbsp;do an activity&nbsp;and make a craft. Each month focuses on a different topic. For ages 5&nbsp;and older.</p>

<p>For more information, contact the Candlestick Point team at <a href="mailto:candlestick@ports-ca.us">candlestick@ports-ca.us</a> or (415) 822-8033.</p>
LOCATION:Visitacion Valley - Visitacion Valley Meeting Room
CLASS:PUBLIC
TRANSP:TRANSPARENT
END:VEVENT
BEGIN:VALARM
TRIGGER:-PT1440M
ACTION:DISPLAY
DESCRIPTION:Event Reminder - Workshop: Library Rangers with Monarchs
END:VALARM
END:VCALENDAR