BEGIN:VCALENDAR
VERSION:2.0
PRODID:SFPL Web Calendar
BEGIN:VEVENT
UID:77133@sfpl.org
DTSTAMP:20231209T220000Z
DTSTART:20231209T220000Z
DTEND:20231209T230000Z
SUMMARY:Activity: Cookie Decorating
DESCRIPTION:<p>Create artwork on top of cookies using&nbsp;colorful icing and sprinkles. For ages 12&ndash;18.</p>
LOCATION:Main Library - Mix: Maker -  2nd Fl
CLASS:PUBLIC
TRANSP:TRANSPARENT
END:VEVENT
BEGIN:VALARM
TRIGGER:-PT1440M
ACTION:DISPLAY
DESCRIPTION:Event Reminder - Activity: Cookie Decorating
END:VALARM
END:VCALENDAR