BEGIN:VCALENDAR
VERSION:2.0
PRODID:SFPL Web Calendar
BEGIN:VEVENT
UID:77484@sfpl.org
DTSTAMP:20240105T024500Z
DTSTART:20240105T024500Z
DTEND:20240105T034500Z
SUMMARY:Book Club: For Boys, John Hendrix's The Faithful Spy
DESCRIPTION:<p>Discussing John Hendrix's <a href="https://sfpl.bibliocommons.com/v2/record/S93C3594610"><em>The Faithful Spy: Dietrich Bonhoeffer and the Plot to Kill Hitler</em></a>, a graphic novel about a WWII era German Lutheran pastor who dares to oppose Hitler.&nbsp; For boys ages 9&ndash;12 with a favorite adult.</p>

<p><a href="https://sfpl.bibliocommons.com/list/share/386267898/1218735348">SFPL West Portal Boys' Book Club Suggested Titles</a></p>
LOCATION:West Portal - West Portal Children's Area
CLASS:PUBLIC
TRANSP:TRANSPARENT
END:VEVENT
BEGIN:VALARM
TRIGGER:-PT1440M
ACTION:DISPLAY
DESCRIPTION:Event Reminder - Book Club: For Boys, John Hendrix's The Faithful Spy
END:VALARM
END:VCALENDAR