BEGIN:VCALENDAR
VERSION:2.0
PRODID:SFPL Web Calendar
BEGIN:VEVENT
UID:77557@sfpl.org
DTSTAMP:20240105T003000Z
DTSTART:20240105T003000Z
DTEND:20240105T020000Z
SUMMARY:Activity: LEGO Free Play
DESCRIPTION:<p>Build and&nbsp;create with an abundance of LEGO bricks&nbsp;and other fun toys&nbsp;set out for free play. Use your imagination, share&nbsp;and have fun! For children ages 8 and older.&nbsp;Younger children are welcome with caregiver supervision at all times.</p>
LOCATION:Ingleside - Ingleside Meeting Room
CLASS:PUBLIC
TRANSP:TRANSPARENT
END:VEVENT
BEGIN:VALARM
TRIGGER:-PT1440M
ACTION:DISPLAY
DESCRIPTION:Event Reminder - Activity: LEGO Free Play
END:VALARM
END:VCALENDAR