BEGIN:VCALENDAR
VERSION:2.0
PRODID:SFPL Web Calendar
BEGIN:VEVENT
UID:77582@sfpl.org
DTSTAMP:20240107T220000Z
DTSTART:20240107T220000Z
DTEND:20240107T233000Z
SUMMARY:Activity: Big Family Build
DESCRIPTION:<p>Come build with us. Get creative with Tinker Toys, Giant Jenga, Magna-tiles, and more!</p>

<p>For children and their families.</p>
LOCATION:Mission Bay - Mission Bay Program Room
CLASS:PUBLIC
TRANSP:TRANSPARENT
END:VEVENT
BEGIN:VALARM
TRIGGER:-PT1440M
ACTION:DISPLAY
DESCRIPTION:Event Reminder - Activity: Big Family Build
END:VALARM
END:VCALENDAR