BEGIN:VCALENDAR
VERSION:2.0
PRODID:SFPL Web Calendar
BEGIN:VEVENT
UID:77606@sfpl.org
DTSTAMP:20240106T190000Z
DTSTART:20240106T190000Z
DTEND:20240106T200000Z
SUMMARY:Workshop: Super Plant
DESCRIPTION:<p>Learn about biodiversity and climate change.&nbsp; Plant and take home your own quenching super plants.&nbsp;</p>

<p>&nbsp;<a href="https://www.projectsuperplants.org/">Project Super Plant</a>&nbsp;is a group of middle and high schoolers teaching about CO2 emissions and growing super plants - California Melic grass seeds that sequester increased CO2 through larger root systems.&nbsp;&nbsp;</p>

<p>&nbsp;</p>

<p>&nbsp;</p>

<p>&nbsp;</p>
LOCATION:West Portal - West Portal Children's Area
CLASS:PUBLIC
TRANSP:TRANSPARENT
END:VEVENT
BEGIN:VALARM
TRIGGER:-PT1440M
ACTION:DISPLAY
DESCRIPTION:Event Reminder - Workshop: Super Plant
END:VALARM
END:VCALENDAR