BEGIN:VCALENDAR
VERSION:2.0
PRODID:SFPL Web Calendar
BEGIN:VEVENT
UID:77630@sfpl.org
DTSTAMP:20240201T003000Z
DTSTART:20240201T003000Z
DTEND:20240201T013000Z
SUMMARY:Workshop: Preventing Behavior Problems Through Positive Parenting 透過正向教養預防行為問題
DESCRIPTION:<p>Learn parenting techniques that support having a healthy, positive relationship with your child. The workshop starts with an overview of the social-emotional development of children that will help you understand what is happening when your child is struggling with their behavior. We cover helpful tips for positive parenting that supports the healthy social-emotional development of your child, increase the connection you have with them as they grow and mature and reduce the occurrence of challenging behavior. Participants leave with a list of local and online resources that offer additional parenting support. This workshop is conducted in Cantonese. Space limited. Reservations required: (415) 355-5615.</p>

<p>Connect:&nbsp;<a href="https://supportforfamilies.org/">Support for Families - Website</a></p>

<p>學習有助於與孩子建立健康、積極關係的育兒技巧。 講座從概述兒童的社交情感發展開始，幫助您瞭解孩子與他們的行為掙扎時的情況。 然後，我們會介紹正向育兒的有用技巧，這些技巧將支持孩子健康的社交情感發展，並隨著他們的成長和成熟增進您們之間的關係，並减少挑戰性行為的發生。 參加者將收到一份本地及網上有關教養孩子的資訊清單。是次講座以粵語進行。名額有限，報名請致電:&nbsp;(415) 355-5615。</p>

<p>連結:&nbsp;&nbsp;<a href="https://supportforfamilies.org/zh_hk/">家庭支援中心 -&nbsp;網頁</a></p>
LOCATION:Ocean View - Ocean View Meeting Room
CLASS:PUBLIC
TRANSP:TRANSPARENT
END:VEVENT
BEGIN:VALARM
TRIGGER:-PT1440M
ACTION:DISPLAY
DESCRIPTION:Event Reminder - Workshop: Preventing Behavior Problems Through Positive Parenting 透過正向教養預防行為問題
END:VALARM
END:VCALENDAR