BEGIN:VCALENDAR
VERSION:2.0
PRODID:SFPL Web Calendar
BEGIN:VEVENT
UID:77740@sfpl.org
DTSTAMP:20231212T233000Z
DTSTART:20231212T233000Z
DTEND:20231213T010000Z
SUMMARY:Workshop: Winter Snowflake Card Making
DESCRIPTION:<p>Create your own Winter snowflake holiday card. Learn about snowflake structures and use geometric shapes to create a snowflake design that is uniquely your own. Keep your card for yourself or gift it to someone for the Winter holidays.</p>

<p>&nbsp;</p>
LOCATION:Visitacion Valley - Visitacion Valley Meeting Room
CLASS:PUBLIC
TRANSP:TRANSPARENT
END:VEVENT
BEGIN:VALARM
TRIGGER:-PT1440M
ACTION:DISPLAY
DESCRIPTION:Event Reminder - Workshop: Winter Snowflake Card Making
END:VALARM
END:VCALENDAR