BEGIN:VCALENDAR
VERSION:2.0
PRODID:SFPL Web Calendar
BEGIN:VEVENT
UID:77755@sfpl.org
DTSTAMP:20240107T210000Z
DTSTART:20240107T210000Z
DTEND:20240107T233000Z
SUMMARY:Film: Ready Player One and Neon Sign Making Activity
DESCRIPTION:<p>When the creator of a virtual reality world called the OASIS dies, he releases a video in which he challenges all OASIS users to find his Easter Egg, which will give the finder his fortune.</p>

<p>PG-13, 140&nbsp;min., 2018. Closed captions (CC) in English.</p>

<p><strong>Neon Sign Making Activity -&nbsp;</strong>T(w)eens ages 10-18 will also have the opportunity to create their&nbsp;own neon sign to take home.&nbsp;</p>
LOCATION:Bayview/Linda Brooks-Burton - Bayview Meeting Room
CLASS:PUBLIC
TRANSP:TRANSPARENT
END:VEVENT
BEGIN:VALARM
TRIGGER:-PT1440M
ACTION:DISPLAY
DESCRIPTION:Event Reminder - Film: Ready Player One and Neon Sign Making Activity
END:VALARM
END:VCALENDAR