BEGIN:VCALENDAR
VERSION:2.0
PRODID:SFPL Web Calendar
BEGIN:VEVENT
UID:77890@sfpl.org
DTSTAMP:20231213T230000Z
DTSTART:20231213T230000Z
DTEND:20231214T000000Z
SUMMARY:Workshop: Nametag or Keychain Making with SFPL Techmobile
DESCRIPTION:<p>Create a simple keychain or name tag with a 3D printer. For ages 10&ndash;18.</p>
LOCATION:North Beach - North Beach Library Community Room
CLASS:PUBLIC
TRANSP:TRANSPARENT
END:VEVENT
BEGIN:VALARM
TRIGGER:-PT1440M
ACTION:DISPLAY
DESCRIPTION:Event Reminder - Workshop: Nametag or Keychain Making with SFPL Techmobile
END:VALARM
END:VCALENDAR