BEGIN:VCALENDAR
VERSION:2.0
PRODID:SFPL Web Calendar
BEGIN:VEVENT
UID:78013@sfpl.org
DTSTAMP:20240109T000000Z
DTSTART:20240109T000000Z
DTEND:20240109T010000Z
SUMMARY:Book Club: Isabel Allende's The Wind Knows My Name
DESCRIPTION:<p>Isabel Allende's&nbsp;<em><a href="https://sfpl.bibliocommons.com/v2/record/S93C3218470">T</a><a href="https://sfpl.bibliocommons.com/v2/record/S93C5759357">he Wind Knows My Name</a>&nbsp;</em>is a of two child immigrants - a boy who escapes Nazi occupied Vienna in 1938 and a girl who escapes military gangs in El Salvador in 2019. This novel highlights the human capacity for hope and decency in the midst of despair.</p>

<p>Contact Dennis Sides at d.sides@att.net for the Zoom link to this Virtual Book Club, questions about the program or help registering. Group meets on the 1st Monday of the month with a new title to discuss each month - holidays may adjust this schedule.</p>
LOCATION:Virtual Library
CLASS:PUBLIC
TRANSP:TRANSPARENT
END:VEVENT
BEGIN:VALARM
TRIGGER:-PT1440M
ACTION:DISPLAY
DESCRIPTION:Event Reminder - Book Club: Isabel Allende's The Wind Knows My Name
END:VALARM
END:VCALENDAR