BEGIN:VCALENDAR
VERSION:2.0
PRODID:SFPL Web Calendar
BEGIN:VEVENT
UID:78207@sfpl.org
DTSTAMP:20240105T000000Z
DTSTART:20240105T000000Z
DTEND:20240105T010000Z
SUMMARY:Book Club: Middle Grade Graphic Novels, Pedro Martín's Mexikid
DESCRIPTION:<p>Talk about recent graphic novels with fellow comics fans.&nbsp;Our January title is&nbsp;<a href="https://sfpl.bibliocommons.com/v2/record/S93C5895141"><em><u>Mexikid by Pedro Mart&iacute;n</u></em></a>.&nbsp;Come for&nbsp;low-key discussion even if you haven't finished the book.&nbsp;</p>

<p>We'll&nbsp;have copies on hold&nbsp;at Portola for you to pick up in advance, or&nbsp;<a href="https://sfpl.bibliocommons.com/v2/record/S93C5924607">find the eBook on&nbsp;Boundless</a>. Snacks provided. For ages 8&ndash;12.&nbsp;</p>
LOCATION:Portola - Portola Meeting Room
CLASS:PUBLIC
TRANSP:TRANSPARENT
END:VEVENT
BEGIN:VALARM
TRIGGER:-PT1440M
ACTION:DISPLAY
DESCRIPTION:Event Reminder - Book Club: Middle Grade Graphic Novels, Pedro Martín's Mexikid
END:VALARM
END:VCALENDAR