BEGIN:VCALENDAR
VERSION:2.0
PRODID:SFPL Web Calendar
BEGIN:VEVENT
UID:78278@sfpl.org
DTSTAMP:20240110T030000Z
DTSTART:20240110T030000Z
DTEND:20240110T043000Z
SUMMARY:Social: Flipside - Vinyl Appreciation Club
DESCRIPTION:<p>Bring records to play and share with us every 2<sup>nd</sup>&nbsp;Tuesday of the month. No registration required.&nbsp; Don't have records? Browse the collection at <a href="https://sfpl.bibliocommons.com/v2/search?custom_edit=false&query=formatcode%3A%28LP+%29&searchType=bl&suppress=true">SFPL</a>.</p>

<p>Trae discos para tocar y comp&aacute;rtelos con nosotros cada 2&ordm; martes del mes. No es necesario registrarse. &iquest;No tienes vinilos? Explora la colecci&oacute;n en <a href="https://sfpl.bibliocommons.com/v2/search?custom_edit=false&query=formatcode%3A%28LP+%29&searchType=bl&suppress=true">SFPL</a>.</p>

<p>&nbsp;</p>

<p>Syzygy, a non-profit arts co-op community, provides space and resources for artists and creatives in San Francisco.</p>

<p>Connect:</p>

<p><a href="https://www.syzygysf.com/">Syzygy SF- Website</a> | <a href="http://www.instagram.com/syzygycoop/?hl=en">Syzygy - Instagram&nbsp;</a></p>
LOCATION:Mission
CLASS:PUBLIC
TRANSP:TRANSPARENT
END:VEVENT
BEGIN:VALARM
TRIGGER:-PT1440M
ACTION:DISPLAY
DESCRIPTION:Event Reminder - Social: Flipside - Vinyl Appreciation Club
END:VALARM
END:VCALENDAR