BEGIN:VCALENDAR
VERSION:2.0
PRODID:SFPL Web Calendar
BEGIN:VEVENT
UID:79579@sfpl.org
DTSTAMP:20231212T233000Z
DTSTART:20231212T233000Z
DTEND:20231213T003000Z
SUMMARY:Meet Up: Refuse Refuse
DESCRIPTION:<p>Help us pick up trash and litter in the neighborhood.Meet at the 10th Avenue entrance of the Richmond Library.&nbsp; All supplies provided.&nbsp; No experience required.&nbsp;</p>
LOCATION:Richmond/Senator Milton Marks - Richmond 10th Avenue Park
CLASS:PUBLIC
TRANSP:TRANSPARENT
END:VEVENT
BEGIN:VALARM
TRIGGER:-PT1440M
ACTION:DISPLAY
DESCRIPTION:Event Reminder - Meet Up: Refuse Refuse
END:VALARM
END:VCALENDAR