BEGIN:VCALENDAR
VERSION:2.0
PRODID:SFPL Web Calendar
BEGIN:VEVENT
UID:82545@sfpl.org
DTSTAMP:20240109T233000Z
DTSTART:20240109T233000Z
DTEND:20240110T003000Z
SUMMARY:Social: Therapy Pets at the Library
DESCRIPTION:<p>Meet a therapy pet provided by the SFSPCA&nbsp;that helps provide comfort and relief stress.</p>
LOCATION:Parkside - Parkside General Floor Area
CLASS:PUBLIC
TRANSP:TRANSPARENT
END:VEVENT
BEGIN:VALARM
TRIGGER:-PT1440M
ACTION:DISPLAY
DESCRIPTION:Event Reminder - Social: Therapy Pets at the Library
END:VALARM
END:VCALENDAR