BEGIN:VCALENDAR
VERSION:2.0
PRODID:SFPL Web Calendar
BEGIN:VEVENT
UID:88052@sfpl.org
DTSTAMP:20240513T213000Z
DTSTART:20240513T213000Z
DTEND:20240513T223000Z
SUMMARY:工作坊: 介紹ChatGPT和Copilot (粵語) -
DESCRIPTION:<p>學習ChatGPT和Copilot，這兩個不同的AI (人工智能)&nbsp;應用程式以及他們可以如何被使用，包括探索如何識別AI生成的文本。以粵語授課。報名參加Zoom線上課程。</p>

<p>如果你是新手入門使用Zoom，課前可預先觀看此視頻以及網站：<a href="http://bit.ly/sfplzoominfo">bit.ly/sfplzoominfo</a> 獲取更多有關如何使用Zoom平台的資訊。</p>

<p><strong>「社區科技網絡」 (CTN)</strong> 致力於透過數碼平權改革生活。 CTN計劃將組織與個人及資源相連以支持整個灣區以及德州中部的數碼共融</p>

<p><strong>連結: 「社區科技網絡」（Community Tech Network</strong>）<a href="http://communitytechnetwork.org/">網站</a> | <a href="http://twitter.com/commtechnetwork">推特</a> | <a href="http://www.facebook.com/CommunityTechNetwork/">臉書</a> | <a href="http://www.youtube.com/channel/UCgOE17tF3vet9IG1_gcCEMw">YouTube</a> | <a href="http://www.instagram.com/community_tech_network/">Instagram</a>| <a href="http://www.linkedin.com/company/community-technology-network-ctn-">領英</a></p>

<p><a href="http://sfpl.org/locations/main-library/bridge-main-5th-floor/sf-tech-week">這是「三藩市科技週」（SF Tech Week）的其中一項活動。報名參加Zoom線上課程</a>。</p>

<p>&nbsp;</p>
LOCATION:Virtual Library
CLASS:PUBLIC
TRANSP:TRANSPARENT
END:VEVENT
BEGIN:VALARM
TRIGGER:-PT1440M
ACTION:DISPLAY
DESCRIPTION:Event Reminder - 工作坊: 介紹ChatGPT和Copilot (粵語) -
END:VALARM
END:VCALENDAR