BEGIN:VCALENDAR
VERSION:2.0
PRODID:SFPL Web Calendar
BEGIN:VEVENT
UID:92944@sfpl.org
DTSTAMP:20240814T230000Z
DTSTART:20240814T230000Z
DTEND:20240815T004500Z
SUMMARY:Tutorial: Intermediate Computer Skills Series
DESCRIPTION:<p>Learn intermediate computer skills in this new 2-week series of classes. Get hands-on practice on the library's PC laptops as we go over more in-depth Microsoft Word, Excel and PowerPoint functions, plus Google services like Docs&nbsp;& Drive.&nbsp;Perfect for folks who feel like they already have the basics down and for those who would like to take their learning to the next level.</p>

<p>Space limited. Reservations required: (415) 557-4388.</p>
LOCATION:Main Library - Computer Training Center - 5th Fl
CLASS:PUBLIC
TRANSP:TRANSPARENT
END:VEVENT
BEGIN:VALARM
TRIGGER:-PT1440M
ACTION:DISPLAY
DESCRIPTION:Event Reminder - Tutorial: Intermediate Computer Skills Series
END:VALARM
END:VCALENDAR