BEGIN:VCALENDAR
VERSION:2.0
PRODID:SFPL Web Calendar
BEGIN:VEVENT
UID:94110@sfpl.org
DTSTAMP:20250215T220000Z
DTSTART:20250215T220000Z
DTEND:20250215T233000Z
SUMMARY:Presentation: Berkeley Rep Docent Talk on Uncle Vanya
DESCRIPTION:<p>A Berkeley Rep docent will present about the history and background of the upcoming production of Anton Chekhov’s celebrated play, <a href="https://sfpl.bibliocommons.com/v2/record/S93C1330520"><i>Uncle Vanya</i></a>. There will also be an open audience discussion of the play’s history, current production and themes. Attendees do not need to have seen the play in order to enjoy the talk and group discussion.</p><p>In <i>Uncle Vanya</i> the distinguished elderly owner of a rural estate returns home with a new, young wife, causing, chaos, confessions and vodka all to flow freely in Chekhov's heartbreaking comedy abut the eternal battle between futility and change. Through a delicate balance of humor and pathos, the additional interrelated themes the play explores include human dissatisfaction, regret, and the search for meaning in life; the exploration of unrequited love and impossible desires; and the tension between a work ethic and the perceived purposelessness in life. The play is a critique of societal norms in Chekhov’s times and is also considered one of the first plays to raise questions about environmental issues. Berkeley Rep’s production stars Hugh Bonneville (<i>Downton Abbey</i>, <i>Paddington</i>).</p><p><i>Uncle Vanya</i> runs at Berkeley Rep from February 14–March 23, 2025.</p><p><a href="https://www.berkeleyrep.org/">Berkeley Repertory Theatre – Website</a> | <a href="https://www.instagram.com/berkeleyrep/">Berkeley Repertory Theatre – Instagram</a> | <a href="https://www.facebook.com/berkeleyrep">Berkeley Repertory Theatre – Facebook</a> | <a href="https://www.youtube.com/user/berkeleyrep">Berkeley Repertory Theatre – YouTube</a> | <a href="https://www.tiktok.com/@berkeleyrep">Berkeley Repertory Theatre – TikTok</a> | <a href="https://www.tiktok.com/@berkeleyrep">Berkeley Repertory Theatre – X (Twitter)</a></p>
LOCATION:Main Library - Steve Silver Music Center - 4th Fl
CLASS:PUBLIC
TRANSP:TRANSPARENT
END:VEVENT
BEGIN:VALARM
TRIGGER:-PT1440M
ACTION:DISPLAY
DESCRIPTION:Event Reminder - Presentation: Berkeley Rep Docent Talk on Uncle Vanya
END:VALARM
END:VCALENDAR