BEGIN:VCALENDAR
VERSION:2.0
PRODID:SFPL Web Calendar
BEGIN:VEVENT
UID:94240@sfpl.org
DTSTAMP:20250712T210000Z
DTSTART:20250712T210000Z
DTEND:20250712T230000Z
SUMMARY:Presentation: Scribes, Script & Art in the Book of Kells
DESCRIPTION:<p>Meredith Jane Klein demonstrates the uncial hand used in the ancient manuscript <i>Book Of Kells. </i>The <i>Book of Kells</i> is more than a beautiful book—its history and its script and decoration are fascinating.</p><p>Meredith Jane Klein fell in love with calligraphy in high school. Originally self-taught she has studied with many internationally known calligraphers. For many years she attended Ward Dunham and Linnea Lundquist’s monthly <i>Black Sabbath</i> classes that focused on blackletter and uncial. She has used uncial, both as texture and text, in pieces, artist books and cards. She teaches for Friends of Calligraphy, other guilds and at local venues. Meredith’s initial love of the artistry and the insular majuscule hand in the <i>Book of Kells</i> have deepened with her studies as she began teaching the hand in 2020.</p><p>Connect: <a href="https://www.google.com/url?sa=t&rct=j&q=&esrc=s&source=web&cd=&cad=rja&uact=8&ved=2ahUKEwivl52au92NAxX9EzQIHZZNLfQQFnoECBgQAQ&url=https%3A%2F%2Fwww.instagram.com%2Fmjkalligraphy%2F%3F__d%3D1%252F&usg=AOvVaw1hL195ajOBX2pAlaIGB95X&opi=89978449">Meredith Jane Klein - Instagram</a></p><p>This program is part of <a href="https://www.friendsofcalligraphy.org/pages/K25%20F%20L%20Y%20E%20R%20updated%20II.pdf">KALLIGRAPHIA 2025</a>, the triennial exhibition by <a href="https://www.friendsofcalligraphy.org/">Friends of Calligraphy</a>,&nbsp;in association with <a href="https://sfpl.org/locations/main-library/book-arts-special-collections">Book Arts & Special Collections</a>. This year's exhibition celebrates the 50th anniversary of Friends of Calligraphy.</p><p>Image: Calligraphy by Meredith Jane Klein</p>
LOCATION:Main Library - Latino/Hispanic Meeting Room A
CLASS:PUBLIC
TRANSP:TRANSPARENT
END:VEVENT
BEGIN:VALARM
TRIGGER:-PT1440M
ACTION:DISPLAY
DESCRIPTION:Event Reminder - Presentation: Scribes, Script & Art in the Book of Kells
END:VALARM
END:VCALENDAR