BEGIN:VCALENDAR
VERSION:2.0
PRODID:SFPL Web Calendar
BEGIN:VEVENT
UID:98796@sfpl.org
DTSTAMP:20250215T190000Z
DTSTART:20250215T190000Z
DTEND:20250215T210000Z
SUMMARY:Activity: Twig Toys Building Blocks
DESCRIPTION:<p>Create sculptures with these modern building blocks. For ages 5 and older.&nbsp;</p>
LOCATION:Excelsior - Excelsior Children's Area
CLASS:PUBLIC
TRANSP:TRANSPARENT
END:VEVENT
BEGIN:VALARM
TRIGGER:-PT1440M
ACTION:DISPLAY
DESCRIPTION:Event Reminder - Activity: Twig Toys Building Blocks
END:VALARM
END:VCALENDAR