BEGIN:VCALENDAR
VERSION:2.0
PRODID:SFPL Web Calendar
BEGIN:VEVENT
UID:104954@sfpl.org
DTSTAMP:20250109T000000Z
DTSTART:20250109T000000Z
DTEND:20250109T010000Z
SUMMARY:Workshop: Lunar New Year Calligraphy
DESCRIPTION:<p>Lunar New Year Calligraphy Class</p><p>Ring in the Year of the Snake with a special calligraphy class led by Jojo Liu! This session introduces the basics of Chinese calligraphy, including brush techniques, stroke order, and the art of writing auspicious New Year phrases to celebrate the occasion.&nbsp;</p><p>Space is limited; reservations are required. Call 415 355-5770 or sign up at the Information Desk beginning December 15th.</p>
LOCATION:Parkside - Parkside General Floor Area
CLASS:PUBLIC
TRANSP:TRANSPARENT
END:VEVENT
BEGIN:VALARM
TRIGGER:-PT1440M
ACTION:DISPLAY
DESCRIPTION:Event Reminder - Workshop: Lunar New Year Calligraphy
END:VALARM
END:VCALENDAR