BEGIN:VCALENDAR
VERSION:2.0
PRODID:SFPL Web Calendar
BEGIN:VEVENT
UID:105907@sfpl.org
DTSTAMP:20250108T233000Z
DTSTART:20250108T233000Z
DTEND:20250109T003000Z
SUMMARY:Workshop: Libby and Boundless
DESCRIPTION:<p>Learn the basics of using the eBook apps Libby and Boundless. Bring your library card to sign up for these services. For ages 10–18.</p>
LOCATION:North Beach - North Beach Library Community Room
CLASS:PUBLIC
TRANSP:TRANSPARENT
END:VEVENT
BEGIN:VALARM
TRIGGER:-PT1440M
ACTION:DISPLAY
DESCRIPTION:Event Reminder - Workshop: Libby and Boundless
END:VALARM
END:VCALENDAR