BEGIN:VCALENDAR
VERSION:2.0
PRODID:SFPL Web Calendar
BEGIN:VEVENT
UID:106307@sfpl.org
DTSTAMP:20250115T003000Z
DTSTART:20250115T003000Z
DTEND:20250115T010000Z
SUMMARY:Tutorial: Brainfuse Tutoring and Homework Help
DESCRIPTION:<p>Learn how to use Brainfuse, the library's live tutoring service for grade K-12. For ages 5–17. Youth under the age of 8 must be accompanied by an adult.</p>
LOCATION:Glen Park - Glen Park Meeting Room
CLASS:PUBLIC
TRANSP:TRANSPARENT
END:VEVENT
BEGIN:VALARM
TRIGGER:-PT1440M
ACTION:DISPLAY
DESCRIPTION:Event Reminder - Tutorial: Brainfuse Tutoring and Homework Help
END:VALARM
END:VCALENDAR