BEGIN:VCALENDAR
VERSION:2.0
PRODID:SFPL Web Calendar
BEGIN:VEVENT
UID:107081@sfpl.org
DTSTAMP:20250411T000000Z
DTSTART:20250411T000000Z
DTEND:20250411T010000Z
SUMMARY:Workshop: Mini–Collage Buttonmaking
DESCRIPTION:<p>Create a mini–collage then make it a button. Theme of Animals, Earth and Outerspace.&nbsp;For ages 13–18.</p>
LOCATION:Merced - Merced General Floor Area
CLASS:PUBLIC
TRANSP:TRANSPARENT
END:VEVENT
BEGIN:VALARM
TRIGGER:-PT1440M
ACTION:DISPLAY
DESCRIPTION:Event Reminder - Workshop: Mini–Collage Buttonmaking
END:VALARM
END:VCALENDAR