BEGIN:VCALENDAR
VERSION:2.0
PRODID:SFPL Web Calendar
BEGIN:VEVENT
UID:107599@sfpl.org
DTSTAMP:20250118T220000Z
DTSTART:20250118T220000Z
DTEND:20250118T233000Z
SUMMARY:Workshop: Coding and Design for Kids
DESCRIPTION:<p>Learn about coding and the basics of HTML.&nbsp;</p><p>For Ages 10–12. Please register at the front desk or by calling (415) 355-2810.</p>
LOCATION:Bernal Heights - Bernal Heights Meeting Room
CLASS:PUBLIC
TRANSP:TRANSPARENT
END:VEVENT
BEGIN:VALARM
TRIGGER:-PT1440M
ACTION:DISPLAY
DESCRIPTION:Event Reminder - Workshop: Coding and Design for Kids
END:VALARM
END:VCALENDAR