BEGIN:VCALENDAR
VERSION:2.0
PRODID:SFPL Web Calendar
BEGIN:VEVENT
UID:108880@sfpl.org
DTSTAMP:20250104T210000Z
DTSTART:20250104T210000Z
DTEND:20250104T220000Z
SUMMARY:Activity: Tofu Banh Mi Spring Rolls
DESCRIPTION:<p>Celebrate the new year by learning how to make a delicious and healthy snack of banh mi-inspired tofu spring rolls with pickled veggies. Space limited.</p>
LOCATION:Main Library - Children's Creative Center - 2nd Fl
CLASS:PUBLIC
TRANSP:TRANSPARENT
END:VEVENT
BEGIN:VALARM
TRIGGER:-PT1440M
ACTION:DISPLAY
DESCRIPTION:Event Reminder - Activity: Tofu Banh Mi Spring Rolls
END:VALARM
END:VCALENDAR