BEGIN:VCALENDAR
VERSION:2.0
PRODID:SFPL Web Calendar
BEGIN:VEVENT
UID:110654@sfpl.org
DTSTAMP:20250326T010000Z
DTSTART:20250326T010000Z
DTEND:20250326T023000Z
SUMMARY:Presentation: SF Opera Lecture
DESCRIPTION:<p>They portray gods and goddesses, countesses and courtesans. They command our attention, rule the stage and amaze us with their divine beauty of song. Where would opera be without its glorious divas? Join San Francisco Opera Scholar Cole Thomason-Redus for an exploration into the real-life and on-stage bigger-than-life characters we’ve come to love (and sometimes love to hate!) This 90-minute presentation is free to the public and open to all.</p><p><strong>di·va</strong>&nbsp;(noun):&nbsp;</p><ol><li>A famous female opera singer</li><li>A self-important person who is temperamental and difficult to please</li><li>Latin word for “goddess”</li></ol><p>&nbsp;</p>
LOCATION:West Portal - West Portal Children's Area
CLASS:PUBLIC
TRANSP:TRANSPARENT
END:VEVENT
BEGIN:VALARM
TRIGGER:-PT1440M
ACTION:DISPLAY
DESCRIPTION:Event Reminder - Presentation: SF Opera Lecture
END:VALARM
END:VCALENDAR