BEGIN:VCALENDAR
VERSION:2.0
PRODID:SFPL Web Calendar
BEGIN:VEVENT
UID:111567@sfpl.org
DTSTAMP:20250215T220000Z
DTSTART:20250215T220000Z
DTEND:20250215T230000Z
SUMMARY:Workshop: Reflections of Self through Puppetry
DESCRIPTION:<p>Celebrate, Black History! It’s More Than Just A Month, with Asé Arts in a puppet-making workshop. Design a stick puppet that is uniquely you and celebrate with the Library the rich heritage of Black culture.&nbsp;</p><p>This workshop fosters a sense of identity and belonging through character design. It elevates the voices of authors and illustrators like Vanessa Brantley-Newton, E. B. Lewis, Nikkolas Smith, and Nikki Giovani. Connecting young artists with the visual stories of these writers and illustrators, we will celebrate the characters they bring to life in their books.&nbsp;</p><p>Asé Arts<i> </i>design studio, pronounced <i>Ah Shay, </i>utilizes the arts as a powerful tool to provoke thought, conversation & change. We build connections through the process of art making. Focused on fostering self expression, skill building, and creative exploration in our visual arts classes, workshops, and community engagement events.&nbsp;</p><p>Connect: <a href="https://url.avanan.click/v2/r01/___https://www.asearts.org/___.YXAzOnNmZHQyOmE6bzo4ODEzOWMyOGQ0Y2QzNGRhM2E4YzA0ODViMWNlNTNjNjo3OmI2NzY6MWJkMWNhOGE0NmRkNmJlZDczZWY5YTE3MDdkZTg2Mzg1Njc0YzdiNmExNzlkMWU0MjFmMDZjOGViNWI0MTUzNzpoOlQ6Tg">Ase Arts - Website</a> I <a href="https://url.avanan.click/v2/r01/___https://www.facebook.com/asearts.org___.YXAzOnNmZHQyOmE6bzo4ODEzOWMyOGQ0Y2QzNGRhM2E4YzA0ODViMWNlNTNjNjo3OjUxOWQ6YzA1YjU2NjgyOTMxZDY1MTQxMTg1ZDc3OWY5MmVhZWZmN2VjYWYzMzZmN2IyYmM1OTgyYzU4ZmU5NDM2MTAxMDpoOlQ6Tg">Ase Arts - Facebook</a> I <a href="https://url.avanan.click/v2/r01/___https://www.instagram.com/asearts510/___.YXAzOnNmZHQyOmE6bzo4ODEzOWMyOGQ0Y2QzNGRhM2E4YzA0ODViMWNlNTNjNjo3OmU3NGI6NDcxNmM5MjkwMzQ5NGQwMTc2YjU0NjEzOTk0ODc5NDk0OWRhMGZhZWFhNjlkZThhOWZjZmE2ZGU4NzUwMGNlODpoOlQ6Tg">Ase Arts - Instagram</a><br>&nbsp;</p>
LOCATION:Main Library - Children's Creative Center - 2nd Fl
CLASS:PUBLIC
TRANSP:TRANSPARENT
END:VEVENT
BEGIN:VALARM
TRIGGER:-PT1440M
ACTION:DISPLAY
DESCRIPTION:Event Reminder - Workshop: Reflections of Self through Puppetry
END:VALARM
END:VCALENDAR