BEGIN:VCALENDAR
VERSION:2.0
PRODID:SFPL Web Calendar
BEGIN:VEVENT
UID:111631@sfpl.org
DTSTAMP:20250306T220000Z
DTSTART:20250306T220000Z
DTEND:20250307T000000Z
SUMMARY:Activity: Library Time Capsule: A Message to the Future / 圖書館的時光膠囊：與未來對話
DESCRIPTION:<p>In this special event, we invite you to record a video message for the future—whether it’s a memory of the Chinatown Branch Library, your hopes for the future library, or a conversation with your future self. These precious recordings will be sealed and revealed at a future moment when the library reopens after its renovation. Participants will also receive a complimentary book.&nbsp;</p><p>Space limited. Reservations required: (415) 355-2888.</p><p><br>於這個特別的活動中，我們誠邀您通過視頻錄製一段對未來的訊息，無論是關於華埠圖書館的回憶、對未來圖書館的期盼，或是與未來的自己對話。這些珍貴的影像將被封存，並在圖書館翻新重開後的某一時刻公開回放。參與者將會獲得免費書籍贈與。座位有限，需提前預約：(415) 355-2888。</p>
LOCATION:Chinatown/Him Mark Lai - Chinatown Meeting Room
CLASS:PUBLIC
TRANSP:TRANSPARENT
END:VEVENT
BEGIN:VALARM
TRIGGER:-PT1440M
ACTION:DISPLAY
DESCRIPTION:Event Reminder - Activity: Library Time Capsule: A Message to the Future / 圖書館的時光膠囊：與未來對話
END:VALARM
END:VCALENDAR