BEGIN:VCALENDAR
VERSION:2.0
PRODID:SFPL Web Calendar
BEGIN:VEVENT
UID:113399@sfpl.org
DTSTAMP:20250809T210000Z
DTSTART:20250809T210000Z
DTEND:20250809T230000Z
SUMMARY:FULL: Workshop: Screenprinting with Calixto Robles
DESCRIPTION:<p><strong>This event is full. For waitlist information call (415)355-5615 or email </strong><a href="mailto:ovimgr@sfpl.org"><strong>ovimgr@sfpl.org</strong></a></p><p>Create your own work of print art using pre-prepared screens. Paper will be provided, bring your own tote bag or tee-shirt to get printed.&nbsp;</p><p>Calixto Robles is a painter, printmaker and sculptor from Oaxaca, Mexico. Inspired by the myths, symbols, colors and ancient traditions of Meso-America, he mixes the silkscreen techniques, which enhance texture and brilliant color, with drawn and found images. Robles’ paintings explore magical realms while his ceramics allow him to reconnect with earthly materials.</p><p>Space limited. Reservations required: (415) 355-5615 (starting July 1).</p><p>Connect:&nbsp;</p><p><a href="https://www.calixtoart.com/">Calixto Robles - Website</a>&nbsp;|&nbsp;<a href="https://www.instagram.com/calixto.robles/">Calixto Robles - Instagram</a>&nbsp;|&nbsp;<a href="https://www.facebook.com/calixto.robles.7">Calixto Robles -&nbsp; Facebook</a></p>
LOCATION:Ocean View - Ocean View Meeting Room
CLASS:PUBLIC
TRANSP:TRANSPARENT
END:VEVENT
BEGIN:VALARM
TRIGGER:-PT1440M
ACTION:DISPLAY
DESCRIPTION:Event Reminder - FULL: Workshop: Screenprinting with Calixto Robles
END:VALARM
END:VCALENDAR