BEGIN:VCALENDAR
VERSION:2.0
PRODID:SFPL Web Calendar
BEGIN:VEVENT
UID:114167@sfpl.org
DTSTAMP:20250424T010000Z
DTSTART:20250424T010000Z
DTEND:20250424T020000Z
SUMMARY:Tutorial: Finding Government Documents in the Library Catalog
DESCRIPTION:<p>This tutorial teaches users how to search for government documents in the library catalog. Participants explore Bibliocommons, the classic catalog, and government information databases, gaining hands-on experience and tips from the Government Information Center librarians.</p>
LOCATION:Virtual Library
CLASS:PUBLIC
TRANSP:TRANSPARENT
END:VEVENT
BEGIN:VALARM
TRIGGER:-PT1440M
ACTION:DISPLAY
DESCRIPTION:Event Reminder - Tutorial: Finding Government Documents in the Library Catalog
END:VALARM
END:VCALENDAR