BEGIN:VCALENDAR
VERSION:2.0
PRODID:SFPL Web Calendar
BEGIN:VEVENT
UID:114945@sfpl.org
DTSTAMP:20250410T010000Z
DTSTART:20250410T010000Z
DTEND:20250410T023000Z
SUMMARY:Workshop: Navigating Aging and End of Life
DESCRIPTION:<p>Aging adults, their families, and caregivers are encouraged to attend this presentation and question and answer session. An expert panel will share information about planning for the later stages of life, and how to get expert support. &nbsp;</p><p>Topics include: Navigating family conversations; clarifying aging loved ones' needs and wishes; receiving clinical care after a serious injury or illness; exploring home care, home health, and hospice; understanding family dynamics; understanding the role of an End-of-Life Doula; and building your expert support team.&nbsp;</p><p>Panelists: Ian Sherbin, Coach and Advisor, Laura Luttinger, Home Health and Hospice Director, Dori Sappo, End-of-Life Doula, Hospice RN and BSN.&nbsp;</p><p><strong>Please reserve your spot using </strong><a href="https://www.eventbrite.com/e/care-planning-medical-insurance-and-end-of-life-bernal-heights-library-tickets-1275426798889?aff=SFPL"><strong>Eventbrite</strong></a><strong>&nbsp;before the event is full.&nbsp;</strong></p><p>Connect: <a href="https://www.elderfamilycoaching.com/">Elder Family Coaching - Website</a></p><p><a href="https://url.avanan.click/v2/r01/___https://www.eventbrite.com/e/care-planning-medical-insurance-and-end-of-life-bernal-heights-library-tickets-1275426798889?aff=SFPL___.YXAzOnNmZHQyOmE6bzo0OWY1MTZhMWJkZWRmMTRhOTFiYWI2NmVlZjE3OWU0MDo3OmUzNTU6MWI1N2IzYjE3NGQwMDE5NzNkMDFlYmI1NTAxYTQ5M2I4OWFmMzM4NzQ0YmQ2YzZiZWZlZWEwZWY3NmUxZGRlYTpoOlQ6Tg">https://www.eventbrite.com/e/care-planning-medical-insurance-and-end-of-life-bernal-heights-library-tickets-1275426798889?aff=SFPL</a></p>
LOCATION:Bernal Heights - Bernal Heights Meeting Room
CLASS:PUBLIC
TRANSP:TRANSPARENT
END:VEVENT
BEGIN:VALARM
TRIGGER:-PT1440M
ACTION:DISPLAY
DESCRIPTION:Event Reminder - Workshop: Navigating Aging and End of Life
END:VALARM
END:VCALENDAR