BEGIN:VCALENDAR
VERSION:2.0
PRODID:SFPL Web Calendar
BEGIN:VEVENT
UID:115070@sfpl.org
DTSTAMP:20250712T210000Z
DTSTART:20250712T210000Z
DTEND:20250712T220000Z
SUMMARY:Presentation: Wild Science with Tree Frog Treks
DESCRIPTION:<p>Meet reptiles and amphibians face-to-face and learn about the natural world around us. For children and their caregivers. Space limited. Reservations required: (415) 355-5626.</p><p>Connect: <a href="https://www.treefrogtreks.com/">Tree Frog Treks - Website</a></p>
LOCATION:North Beach - North Beach Library Community Room
CLASS:PUBLIC
TRANSP:TRANSPARENT
END:VEVENT
BEGIN:VALARM
TRIGGER:-PT1440M
ACTION:DISPLAY
DESCRIPTION:Event Reminder - Presentation: Wild Science with Tree Frog Treks
END:VALARM
END:VCALENDAR