BEGIN:VCALENDAR
VERSION:2.0
PRODID:SFPL Web Calendar
BEGIN:VEVENT
UID:117197@sfpl.org
DTSTAMP:20250823T210000Z
DTSTART:20250823T210000Z
DTEND:20250823T214500Z
SUMMARY:POSTPONED Workshop: Sound Bath with Megan Heuer
DESCRIPTION:<p><i><strong>This program has been postponed, date to be determined. Thank you for your interest in our programs.</strong></i></p><p>Megan Heuer, certified sound healer, will lead participants in a sound bath session filled with the gentle yet resonant sounds of crystal singing bowls and the soothing sounds of nature. Participants can lie down or sit to allow the tranquil vibrations to wash over them, aiding in the release of tension and prompting of deep relaxation. Each tone and rhythm blends into a therapeutic symphony, guiding the group into a state of peaceful rejuvenation and inner calm.</p><p><strong>Space limited. Reservations required: (415) 355-5626 or sign-up at the reference desk.&nbsp;</strong></p><p>Connect: <a href="https://relaxationtherapybymegan.com/">Megan Heuer - Website</a><br><br>&nbsp;</p>
LOCATION:North Beach - North Beach Library Community Room
CLASS:PUBLIC
TRANSP:TRANSPARENT
END:VEVENT
BEGIN:VALARM
TRIGGER:-PT1440M
ACTION:DISPLAY
DESCRIPTION:Event Reminder - POSTPONED Workshop: Sound Bath with Megan Heuer
END:VALARM
END:VCALENDAR